BEGIN:VCALENDAR
VERSION:2.0
PRODID:-//Library Market//iCal Export//EN
BEGIN:VEVENT
SUMMARY:Christmas in July
UID:37585
DTSTAMP:20260424T201800Z
DTSTART:20260725T050000Z
DTEND:20260725T050000Z
LOCATION:807 Indiana Ave, La Porte, IN 46350, United States
ROOM: EX-Classroom
DESCRIPTION:Who says you have to wait until December? Join us for Makerspa
 ce Christmas in July and discover demos of fun, creative projects that mak
 e great gifts. Explore the tools, see what others are making, and spark id
 eas for custom creations you can make in the Makerspace for the holidays o
 r anytime.
URL:https://www.laportelibrary.org/event/christmas-july-37585
END:VEVENT
END:VCALENDAR
