BEGIN:VCALENDAR
VERSION:2.0
PRODID:-//Library Market//iCal Export//EN
BEGIN:VEVENT
SUMMARY:National Book Lovers Day
UID:37533
DTSTAMP:20260424T224600Z
DTSTART:20260808T170000Z
DTEND:20260808T190000Z
LOCATION:Main Library, 904 Indiana Ave, La Porte, IN 46350, United States
ROOM: MN-Multipurpose Room
DESCRIPTION:Celebrate National Book Lovers Day by checking out your favori
 te book, writing your own story, or using the supplies provided to recreat
 e your favorite book cover or character. 
URL:https://www.laportelibrary.org/event/national-book-lovers-day-37533
END:VEVENT
END:VCALENDAR
