BEGIN:VCALENDAR
VERSION:2.0
PRODID:-//Library Market//iCal Export//EN
BEGIN:VEVENT
SUMMARY:Kids Cooking - Homemade Pasta
UID:37532
DTSTAMP:20260424T193700Z
DTSTART:20260827T210000Z
DTEND:20260827T220000Z
LOCATION:Main Library, 904 Indiana Ave, La Porte, IN 46350, United States
ROOM: MN-Multipurpose Room
DESCRIPTION:Learn how to make pasta from scratch! Using a few simple ingre
 dients, we will measure, mix, knead, roll, and cut our own pasta.
URL:https://www.laportelibrary.org/event/kids-cooking-homemade-pasta-37532
END:VEVENT
END:VCALENDAR
