BEGIN:VCALENDAR
VERSION:2.0
PRODID:-//Library Market//iCal Export//EN
BEGIN:VEVENT
SUMMARY:Dinosaur Duels
UID:37529
DTSTAMP:20260424T193700Z
DTSTART:20260721T210000Z
DTEND:20260721T220000Z
LOCATION:Main Library, 904 Indiana Ave, La Porte, IN 46350, United States
ROOM: MN-Multipurpose Room
DESCRIPTION:Join us for an epic evening of Dino Duels!Build a dinosaur out
  of LEGO® to battle against others. We will learn how to code Edison robo
 ts and attach our dinosaurs. Compete with other dinosaurs to become the ki
 ng of the ring!
URL:https://www.laportelibrary.org/event/dinosaur-duels-37529
END:VEVENT
END:VCALENDAR
