BEGIN:VCALENDAR
VERSION:2.0
PRODID:-//Library Market//iCal Export//EN
BEGIN:VEVENT
SUMMARY:Archaeologist School
UID:37528
DTSTAMP:20260424T185900Z
DTSTART:20260711T190000Z
DTEND:20260711T200000Z
LOCATION:Main Library, 904 Indiana Ave, La Porte, IN 46350, United States
ROOM: MN-Meeting Room B
DESCRIPTION:What does it take to be an archaeologist? We&#039;ll learn wha
 t they do by trying our hand at the job! Whether we find dinosaur bones or
  pieces from the past, there is sure to be lots of fun! 
URL:https://www.laportelibrary.org/event/archaeologist-school-37528
END:VEVENT
END:VCALENDAR
