BEGIN:VCALENDAR
VERSION:2.0
PRODID:-//Library Market//iCal Export//EN
BEGIN:VEVENT
SUMMARY:Crafternoon - DIY Dinosaur Costumes
UID:37527
DTSTAMP:20260424T003900Z
DTSTART:20260618T210000Z
DTEND:20260618T220000Z
LOCATION:Main Library, 904 Indiana Ave, La Porte, IN 46350, United States
ROOM: MN-Multipurpose Room
DESCRIPTION:Join us to build your own dinosaur persona from scratch. Make 
 a mask, feet and claws, or even a tail! Show off your art skills and talk 
 a walk on the wild side!
URL:https://www.laportelibrary.org/event/crafternoon-diy-dinosaur-costumes
 -37527
END:VEVENT
END:VCALENDAR
