BEGIN:VCALENDAR
VERSION:2.0
PRODID:-//Library Market//iCal Export//EN
BEGIN:VEVENT
SUMMARY:Second Saturday Storytime
UID:37526
DTSTAMP:20260424T015200Z
DTSTART:20260808T150000Z
DTEND:20260808T153000Z
LOCATION:Main Library, 904 Indiana Ave, La Porte, IN 46350, United States
ROOM: MN-Multipurpose Room
DESCRIPTION:Can&#039;t make it to storytime during the week? No worries! A
 ll summer, on the second Saturday of the month, join us for stories, songs
 , and an activity! 
URL:https://www.laportelibrary.org/event/second-saturday-storytime-37526
END:VEVENT
END:VCALENDAR
