BEGIN:VCALENDAR
VERSION:2.0
PRODID:-//Library Market//iCal Export//EN
BEGIN:VEVENT
SUMMARY:Teen Engineering Camp
UID:37313
DTSTAMP:20260423T184000Z
DTSTART:20260620T183000Z
DTEND:20260620T203000Z
LOCATION:807 Indiana Ave, La Porte, IN 46350, United States
ROOM: EX-Classroom
DESCRIPTION:Teens - turn your creativity into crushing power! Explore the 
 world of engineering by designing and building a can crusher. Over four se
 ssions, we&#039;ll learn about force, pressure, motion, simple mechanics, 
 and more. Along the way, you&#039;ll tackle fun challenges, test your idea
 s, and collaborate with others on this hands-on project. Create something 
 powerful and crush it! This club is the perfect place to create, learn, a
 nd hang out with other young makers. To participate, you must have a signe
 d Makerspace waiver on file. A custodial adult may complete the waiver in 
 person or fill out the linked waiver above and bring to the program.
URL:https://www.laportelibrary.org/event/teen-engineering-camp-37313
END:VEVENT
END:VCALENDAR
