BEGIN:VCALENDAR
VERSION:2.0
PRODID:-//Library Market//iCal Export//EN
BEGIN:VEVENT
SUMMARY:Exploring the Cricut
UID:37309
DTSTAMP:20260424T201800Z
DTSTART:20260801T150000Z
DTEND:20260801T170000Z
LOCATION:807 Indiana Ave, La Porte, IN 46350, United States
ROOM: EX-Classroom
DESCRIPTION:The Cricut is a helpful tool that can be used for a variety of
  projects and crafts. Learn how to create temporary tattoos, stickers, mag
 nets and stamps--all with the Cricut! 
URL:https://www.laportelibrary.org/event/use-cricut-more-just-labels-or-de
 corating-37309
END:VEVENT
END:VCALENDAR
