BEGIN:VCALENDAR
VERSION:2.0
PRODID:-//Library Market//iCal Export//EN
BEGIN:VEVENT
SUMMARY:Unearth a Project Summer Wrap-Up
UID:37307
DTSTAMP:20260422T005700Z
DTSTART:20260731T150000Z
DTEND:20260731T163000Z
LOCATION:807 Indiana Ave, La Porte, IN 46350, United States
ROOM: EX-Classroom
DESCRIPTION:Pop in the Exchange to make a dinosaur-themed project in celeb
 ration of your Summer Reading Program success! Unearth your creativity by
  3D printing dinosaurs, fossils, or dinosaur jewelry. You&#039;ll also hav
 e the chance to paint a precut dinosaur created on the laser cutter or cre
 ate something new. 
URL:https://www.laportelibrary.org/event/unearth-project-summer-wrap-37307
END:VEVENT
END:VCALENDAR
