BEGIN:VCALENDAR
VERSION:2.0
PRODID:-//Library Market//iCal Export//EN
BEGIN:VEVENT
SUMMARY:Woodworking Basics - Types of Joinery
UID:37264
DTSTAMP:20260422T144500Z
DTSTART:20260817T233000Z
DTEND:20260818T003000Z
LOCATION:807 Indiana Ave, La Porte, IN 46350, United States
ROOM: Woodworking Basics - Types of Joinery
DESCRIPTION:Different types of joinery are used for different purposes in 
 woodworking. We&#039;ll discuss the different types, the specific uses for
  each type, why joining techniques matter, how they were made, and Makersp
 ace tools available for project use. 
URL:https://www.laportelibrary.org/event/woodworking-basics-types-joinery-
 37264
END:VEVENT
END:VCALENDAR
