BEGIN:VCALENDAR
VERSION:2.0
PRODID:-//Library Market//iCal Export//EN
BEGIN:VEVENT
SUMMARY:Sew Simple - Lanyard
UID:37110
DTSTAMP:20260422T144500Z
DTSTART:20260807T153000Z
DTEND:20260807T163000Z
LOCATION:807 Indiana Ave, La Porte, IN 46350, United States
ROOM: EX-Classroom
DESCRIPTION:Get ready for back-to-school by sewing your own lanyard. This 
 beginner-friendly sewing project is a great way to secure your wallet, ID 
 or keys. 
URL:https://www.laportelibrary.org/event/sew-simple-sew-lanyard-37110
END:VEVENT
END:VCALENDAR
