BEGIN:VCALENDAR
VERSION:2.0
PRODID:-//Library Market//iCal Export//EN
BEGIN:VEVENT
SUMMARY:Convert Memories to Embroidery
UID:36949
DTSTAMP:20260422T144500Z
DTSTART:20260729T230000Z
DTEND:20260730T003000Z
LOCATION:807 Indiana Ave, La Porte, IN 46350, United States
ROOM: EX-Classroom
DESCRIPTION:Learn how to take a simple children&#039;s drawing, recipe, no
 te from a loved one or another special memory to digitize and stitch with 
 the embroidery machine. These designs can be added to a variety of items l
 ike tote bags, framed art, clothing, and more. In this session, you&#039;
 ll learn how to set up a file and some other tips for planning an embroide
 ry project. 
URL:https://www.laportelibrary.org/event/convert-memories-embroidery-36949
END:VEVENT
END:VCALENDAR
