BEGIN:VCALENDAR
VERSION:2.0
PRODID:-//Library Market//iCal Export//EN
BEGIN:VEVENT
SUMMARY:Get to Know Your Sewing Machine
UID:36948
DTSTAMP:20260422T144500Z
DTSTART:20260722T230000Z
DTEND:20260723T003000Z
LOCATION:807 Indiana Ave, La Porte, IN 46350, United States
ROOM: EX-Classroom
DESCRIPTION:Interested in picking up sewing? Bring your own sewing machine
  - or watch demonstrations of ours - and learn how to get the most out of 
 your machine! You&#039;ll learn the differences between computerized and 
 mechanical machines, how to use the owner&#039;s manual and find helpful o
 nline resources, and an overview of common tools and attachments that come
  with a sewing machine. You&#039;ll also learn general threading technique
 s, best practices for stitch types and adjustments, and discover useful to
 ols available at the Exchange for machine maintenance. 
URL:https://www.laportelibrary.org/event/get-know-your-sewing-machine-3694
 8
END:VEVENT
END:VCALENDAR
