BEGIN:VCALENDAR
VERSION:2.0
PRODID:-//Library Market//iCal Export//EN
BEGIN:VEVENT
SUMMARY:Cross Stitch Basics
UID:36947
DTSTAMP:20260422T144500Z
DTSTART:20260728T230000Z
DTEND:20260729T003000Z
LOCATION:807 Indiana Ave, La Porte, IN 46350, United States
ROOM: EX-Classroom
DESCRIPTION:Have you always wanted to learn how to cross stitch or learned
  years ago and would like a refresher? Learn how to follow a chart, prepar
 e a thread, and complete a basic stitch. 
URL:https://www.laportelibrary.org/event/cross-stitch-basics-36947
END:VEVENT
END:VCALENDAR
