BEGIN:VCALENDAR
VERSION:2.0
PRODID:-//Library Market//iCal Export//EN
BEGIN:VEVENT
SUMMARY:You, Me &amp; American Girl
UID:36819
DTSTAMP:20260422T175000Z
DTSTART:20260620T153000Z
DTEND:20260620T170000Z
LOCATION:Main Library, 904 Indiana Ave, La Porte, IN 46350, United States
ROOM: MN-Reading Wi-Fi Garden
DESCRIPTION:This year is the 250th anniversary of the signing of the Decla
 ration of Independence! It&#039;s also the 40th anniversary of the beloved
  American Girl! Bring your American Girl doll, learn a brief history of Am
 erican Girl and its cultural significance, enjoy themed treats, and recrea
 te Kit&#039;s pennant or Samantha&#039;s flower basket. 
URL:https://www.laportelibrary.org/event/you-me-american-girl-36819
END:VEVENT
END:VCALENDAR
