BEGIN:VCALENDAR
VERSION:2.0
PRODID:-//Library Market//iCal Export//EN
BEGIN:VEVENT
SUMMARY:Dobot T-Rex Arms
UID:36745
DTSTAMP:20260423T130500Z
DTSTART:20260606T160000Z
DTEND:20260606T170000Z
LOCATION:Main Library, 904 Indiana Ave, La Porte, IN 46350, United States
ROOM: MN-Multipurpose Room
DESCRIPTION:Learn all about Dobot, a robotic arm that acts similar to a T-
 Rex arm. Program it to stack blocks, pick up items, and write your name. 
URL:https://www.laportelibrary.org/event/dobot-t-rex-arms-36745
END:VEVENT
END:VCALENDAR
