BEGIN:VCALENDAR
VERSION:2.0
PRODID:-//Library Market//iCal Export//EN
BEGIN:VEVENT
SUMMARY:Organize Your Family Tree
UID:35978
DTSTAMP:20260424T201800Z
DTSTART:20260730T223000Z
DTEND:20260730T233000Z
LOCATION:Main Library, 904 Indiana Ave, La Porte, IN 46350, United States
ROOM: MN-Meeting Room A
DESCRIPTION:Learn basic recommendations of how to organize your family tre
 e and genealogy research digitally and in print.
URL:https://www.laportelibrary.org/event/organize-your-family-tree-35978
END:VEVENT
END:VCALENDAR
