BEGIN:VCALENDAR
VERSION:2.0
PRODID:-//Library Market//iCal Export//EN
BEGIN:VEVENT
SUMMARY:Tinker Teens - Raspberry Pis
UID:35718
DTSTAMP:20260422T144500Z
DTSTART:20260826T210000Z
DTEND:20260826T220000Z
LOCATION:807 Indiana Ave, La Porte, IN 46350, United States
ROOM: EX-Classroom
DESCRIPTION:This month, we&#039;ll use Raspberry Pis to connect and contro
 l LEDs. 
URL:https://www.laportelibrary.org/event/tinker-teens-35718
END:VEVENT
END:VCALENDAR
