BEGIN:VCALENDAR
VERSION:2.0
PRODID:-//Library Market//iCal Export//EN
BEGIN:VEVENT
SUMMARY:Tinker Teens - Engineered Dinos
UID:35715
DTSTAMP:20260424T224600Z
DTSTART:20260722T210000Z
DTEND:20260722T220000Z
LOCATION:807 Indiana Ave, La Porte, IN 46350, United States
ROOM: EX-Classroom
DESCRIPTION:Learn about soldering by using brass wire and solder to create
  a geometric-style dino. You&#039;ll also learn about circuitry to add LED
  lights to it. 
URL:https://www.laportelibrary.org/event/tinker-teens-35715
END:VEVENT
END:VCALENDAR
