BEGIN:VCALENDAR
VERSION:2.0
PRODID:-//Library Market//iCal Export//EN
BEGIN:VEVENT
SUMMARY:Tinker Teens - Dinosaur Trophy
UID:35713
DTSTAMP:20260422T155800Z
DTSTART:20260624T210000Z
DTEND:20260624T220000Z
LOCATION:807 Indiana Ave, La Porte, IN 46350, United States
ROOM: EX-Classroom
DESCRIPTION:Create a 3D dinosaur head using the laser cutter and other Mak
 erspace tools.
URL:https://www.laportelibrary.org/event/tinker-teens-35713
END:VEVENT
END:VCALENDAR
