BEGIN:VCALENDAR
VERSION:2.0
PRODID:-//Library Market//iCal Export//EN
BEGIN:VEVENT
SUMMARY:Creative Kids - Squishy Circut Dinos
UID:35653
DTSTAMP:20260425T102500Z
DTSTART:20260819T210000Z
DTEND:20260819T220000Z
LOCATION:807 Indiana Ave, La Porte, IN 46350, United States
ROOM: EX-Classroom
DESCRIPTION:Use Squishy Circuits to create dinos that light up, make noise
  and fly. 
URL:https://www.laportelibrary.org/event/creative-kids-35653
END:VEVENT
END:VCALENDAR
