BEGIN:VCALENDAR
VERSION:2.0
PRODID:-//Library Market//iCal Export//EN
BEGIN:VEVENT
SUMMARY:Creative Kids - Unearth Your Potential
UID:35646
DTSTAMP:20260422T144500Z
DTSTART:20260701T210000Z
DTEND:20260701T220000Z
LOCATION:807 Indiana Ave, La Porte, IN 46350, United States
ROOM: EX-Classroom
DESCRIPTION:Learn about professions like archaeology and paleontology, the
 n find 3D printed dinosaur fossils and bones in your own dino dig! You&#03
 9;ll also learn about the Makerspace&#039;s 3D printers and Cricut.
URL:https://www.laportelibrary.org/event/creative-kids-35646
END:VEVENT
END:VCALENDAR
