BEGIN:VCALENDAR
VERSION:2.0
PRODID:-//Library Market//iCal Export//EN
BEGIN:VEVENT
SUMMARY:Crafternoon - Cricut Decorations
UID:35527
DTSTAMP:20260424T224600Z
DTSTART:20260814T170000Z
DTEND:20260814T230000Z
LOCATION:807 Indiana Ave, La Porte, IN 46350, United States
ROOM: Crafternoon - Cricut Decorations
DESCRIPTION:Drop in to the Exchange anytime for arts and crafts, perfect f
 or people of all ages.Learn the basics of the Cricut and how you can use i
 t to create year-round decorations. You&#039;ll leave with a paper Cricut 
 decoration you can display in your home or gift to a loved one. 
URL:https://www.laportelibrary.org/event/crafternoon-35527
END:VEVENT
END:VCALENDAR
