BEGIN:VCALENDAR
VERSION:2.0
PRODID:-//Library Market//iCal Export//EN
BEGIN:VEVENT
SUMMARY:La Porte History Through the Digital Archive
UID:35422
DTSTAMP:20260424T201800Z
DTSTART:20260722T170000Z
DTEND:20260722T190000Z
LOCATION:Main Library, 904 Indiana Ave, La Porte, IN 46350, United States
ROOM: MN-Meeting Room A
DESCRIPTION:Are you interested in learning more about the history of La Po
 rte, but aren&#039;t sure where to look? Together, we&#039;ll navigate the
  library&#039;s digital archive, browse an assortment of collections and l
 earn how you can continue this research at home.
URL:https://www.laportelibrary.org/event/la-porte-history-through-digital-
 archive-35422
END:VEVENT
END:VCALENDAR
