BEGIN:VCALENDAR
VERSION:2.0
PRODID:-//Library Market//iCal Export//EN
BEGIN:VEVENT
SUMMARY:Build a Dino
UID:33886
DTSTAMP:20260424T201800Z
DTSTART:20260731T160000Z
DTEND:20260731T173000Z
LOCATION:Main Library, 904 Indiana Ave, La Porte, IN 46350, United States
ROOM: MN-Meeting Room B
DESCRIPTION:Get ready for a hands-on prehistoric adventure! Begin by liste
 ning to an interactive dinosaur story, then use balloons, models, and real
  fossils to explore how features like sharp teeth, long necks, tail clubs,
  and spikes helped dinosaurs survive in their environments.You&#039;ll lea
 rn how to build your own dinosaur balloon, choosing and combining features
  to create a unique species. Together, you&#039;ll discover their dinosaur
 ’s strengths, weaknesses, and ecological niche—and everyone gets to ta
 ke their creation home!
URL:https://www.laportelibrary.org/event/build-dino-33886
END:VEVENT
END:VCALENDAR
