BEGIN:VCALENDAR
VERSION:2.0
PRODID:-//Library Market//iCal Export//EN
BEGIN:VEVENT
SUMMARY:Stories &amp; More Ages 3-5
UID:28739
DTSTAMP:20260423T130500Z
DTSTART:20260821T150000Z
DTEND:20260821T153000Z
LOCATION:Main Library, 904 Indiana Ave, La Porte, IN 46350, United States
ROOM: MN-Multipurpose Room
DESCRIPTION:This summer, explore the different collections in the Youth De
 partment! We&#039;ll learn about each section and what books belong in it,
  so you can feel more confident when browsing for your next book! This we
 ek, we are highlighting our Classics section.
URL:https://www.laportelibrary.org/event/stories-more-ages-3-5-28739
END:VEVENT
END:VCALENDAR
