BEGIN:VCALENDAR
VERSION:2.0
PRODID:-//Library Market//iCal Export//EN
BEGIN:VEVENT
SUMMARY:Stories &amp; More Ages 3-5
UID:28733
DTSTAMP:20260423T130500Z
DTSTART:20260710T150000Z
DTEND:20260710T153000Z
LOCATION:Main Library, 904 Indiana Ave, La Porte, IN 46350, United States
ROOM: MN-Multipurpose Room
DESCRIPTION:This summer, explore the different collections in the Youth De
 partment! We&#039;ll learn about each section and what books belong in it,
  so you can feel more confident when browsing for your next book! This we
 ek, we are highlighting our Concepts section.
URL:https://www.laportelibrary.org/event/stories-more-ages-3-5-28733
END:VEVENT
END:VCALENDAR
